BEGIN:VCALENDAR
VERSION:2.0
PRODID:-//zentor Akademie - ECPv6.15.20//NONSGML v1.0//EN
CALSCALE:GREGORIAN
METHOD:PUBLISH
X-ORIGINAL-URL:https://academy.zentor.de
X-WR-CALDESC:Veranstaltungen für zentor Akademie
REFRESH-INTERVAL;VALUE=DURATION:PT1H
X-Robots-Tag:noindex
X-PUBLISHED-TTL:PT1H
BEGIN:VTIMEZONE
TZID:Europe/Berlin
BEGIN:DAYLIGHT
TZOFFSETFROM:+0100
TZOFFSETTO:+0200
TZNAME:CEST
DTSTART:20250330T010000
END:DAYLIGHT
BEGIN:STANDARD
TZOFFSETFROM:+0200
TZOFFSETTO:+0100
TZNAME:CET
DTSTART:20251026T010000
END:STANDARD
BEGIN:DAYLIGHT
TZOFFSETFROM:+0100
TZOFFSETTO:+0200
TZNAME:CEST
DTSTART:20260329T010000
END:DAYLIGHT
BEGIN:STANDARD
TZOFFSETFROM:+0200
TZOFFSETTO:+0100
TZNAME:CET
DTSTART:20261025T010000
END:STANDARD
BEGIN:DAYLIGHT
TZOFFSETFROM:+0100
TZOFFSETTO:+0200
TZNAME:CEST
DTSTART:20270328T010000
END:DAYLIGHT
BEGIN:STANDARD
TZOFFSETFROM:+0200
TZOFFSETTO:+0100
TZNAME:CET
DTSTART:20271031T010000
END:STANDARD
END:VTIMEZONE
BEGIN:VEVENT
DTSTART;VALUE=DATE:20260416
DTEND;VALUE=DATE:20260418
DTSTAMP:20260420T183136
CREATED:20260112T180152Z
LAST-MODIFIED:20260112T180152Z
UID:10000043-1776297600-1776470399@academy.zentor.de
SUMMARY:LevelUp Leadership Training (Apr 16-17)
DESCRIPTION:LevelUp for ScaleUp ist ein speziell auf Startup-Bedürfnisse zugeschnittenes Führungskräftetraining der Techniker Krankenkasse in Kooperation mit der zentor GmbH. Bis zu 14 Teilnehmer lernen in einem 2-tägigen Präsenz-Bootcamp wissenschaftlich fundiert die Kriterien effektiver Führung\, zahlreiche auf die jeweiligen Herausforderungen der Teilnehmer zugeschnittene Tools für die Praxis (z.B. gute 1:1s\, Manager-on-a-Page\, Team Canvas\, effektives Feedback\, intrinsische Motivation\, OKR\, etc.) und viel über sich selbst. Neben dem Bootcamp begleitet ein ausführliches Zusatzangebot das Training\, u.a. eine bewährte Diagnostik zu Führungskompetenzen\, virtuelle Kick-off & Follow-up Termine\, ein Onlinekurs zu Selbstkompetenz\, Buddy-Matching mit praktischen Übungen\, 1:1 Coaching\, ein AI Leadership Coach\, ein ausführliches Booklet\, Templates\, etc. \nDie Teilnehmer schätzen am Training insbesondere die vielen konkreten Ansätze und “Experimente”\, die sie direkt nach dem Training einsetzen\, um durch lebenslanges Lernen ihren authentischen Führungsstil kontinuierlich weiter zu entwickeln. \n  \nInteressierte Start- & ScaleUps finden weitere Informationen hier: \n\n\nAnmeldung / Levelup Landing Page: https://zentor.de/levelup/ \n\n\nOne-pager: https://zentor.de/other/levelup.pdf \n\n\n“Teaser Deck” zu dem Training: https://zentor.de/other/zentor-purpose-driven-leadership-de.pdf \n\n\nKurzes Intro-Video: https://zentor.de/b2b/#pdl \n\n\n 
URL:https://academy.zentor.de/event/levelup-leadership-training-apr-16-17/
CATEGORIES:LevelUp
ORGANIZER;CN="zentor Academy":MAILTO:academy@zentor.de
END:VEVENT
BEGIN:VEVENT
DTSTART;TZID=Europe/Berlin:20260415T160000
DTEND;TZID=Europe/Berlin:20260415T173000
DTSTAMP:20260420T183136
CREATED:20251221T192937Z
LAST-MODIFIED:20251231T132309Z
UID:10000011-1776268800-1776274200@academy.zentor.de
SUMMARY:Fokus Session - Das Streben nach Glück
DESCRIPTION:Wissenschaftliche Forschung zu Glück und Bewusstsein für mentale Gesundheit \nMS Teams Einwahldaten auf zentor Academy (bitte einloggen) unter: \nhttps://academy.zentor.de/courses/founder-to-leader/lessons/live-fokus-session/topic/live-session/#login \nInhalte: \n\nDas Streben nach Glück: Was macht ein erfülltes Leben aus\nWissenschaftliche Forschung zu Glück und mentaler Gesundheit\nExperimente“ und Ansätze für mehr Glücksmomente im Leben\n\nWir freuen uns auf euch! \n 
URL:https://academy.zentor.de/event/fokus-session-das-streben-nach-gluck/
LOCATION:Dial-in Focus Session
CATEGORIES:Focus Session
ORGANIZER;CN="zentor Academy":MAILTO:academy@zentor.de
END:VEVENT
BEGIN:VEVENT
DTSTART;TZID=Europe/Berlin:20260410T160000
DTEND;TZID=Europe/Berlin:20260410T170000
DTSTAMP:20260420T183136
CREATED:20251221T192645Z
LAST-MODIFIED:20260406T125044Z
UID:10000010-1775836800-1775840400@academy.zentor.de
SUMMARY:Office Hour und Intro Founder Academy
DESCRIPTION:Übersicht über Inhalte und Features zum Programm \nMS Teams Einwahldaten auf zentor Academy (bitte einloggen) unter: \nhttps://academy.zentor.de/courses/founder-to-leader/lessons/live-fokus-session/topic/live-session/#login \nInhalte: \n\nKurze Intro zur Founder Academy\nWelche aktuellen Themen und Herausforderungen gibt es?\nAustausch mit anderen und ggf. Buddy Matching\n\nWir freuen uns auf euch! \n 
URL:https://academy.zentor.de/event/fokus-session-intro-april/
LOCATION:Dial-in Focus Session
CATEGORIES:Focus Session,Intro
ORGANIZER;CN="zentor Academy":MAILTO:academy@zentor.de
END:VEVENT
BEGIN:VEVENT
DTSTART;TZID=Europe/Berlin:20260325T160000
DTEND;TZID=Europe/Berlin:20260325T173000
DTSTAMP:20260420T183136
CREATED:20251221T192206Z
LAST-MODIFIED:20260320T121646Z
UID:10000009-1774454400-1774459800@academy.zentor.de
SUMMARY:Fokus Session - Zielsetzung und Steuerung
DESCRIPTION:Ansätze für effektive Unternehmens-steuerung\, Metrics/OMTM\, TBD: OKRs als Tool zu Steuerung \nMS Teams Einwahldaten auf zentor Academy (bitte einloggen) unter: \nhttps://academy.zentor.de/courses/founder-to-leader/lessons/live-fokus-session/topic/live-session/#login \nInhalte: \n\nZielsetzung und Führungsprinzipien für effektive Unternehmenssteuerung\nOKRs als Tool zur strategischen Ausrichtung\nKPIs für die operative Steuerung – die Kunst guter Metriken\n\nWir freuen uns auf euch! \n 
URL:https://academy.zentor.de/event/fokus-session-zielsetzung-und-steuerung/
LOCATION:Dial-in Focus Session
CATEGORIES:Focus Session
ORGANIZER;CN="zentor Academy":MAILTO:academy@zentor.de
END:VEVENT
BEGIN:VEVENT
DTSTART;VALUE=DATE:20260312
DTEND;VALUE=DATE:20260314
DTSTAMP:20260420T183136
CREATED:20260112T180039Z
LAST-MODIFIED:20260112T180039Z
UID:10000042-1773273600-1773446399@academy.zentor.de
SUMMARY:LevelUp Leadership Training (Mar 12-13)
DESCRIPTION:LevelUp for ScaleUp ist ein speziell auf Startup-Bedürfnisse zugeschnittenes Führungskräftetraining der Techniker Krankenkasse in Kooperation mit der zentor GmbH. Bis zu 14 Teilnehmer lernen in einem 2-tägigen Präsenz-Bootcamp wissenschaftlich fundiert die Kriterien effektiver Führung\, zahlreiche auf die jeweiligen Herausforderungen der Teilnehmer zugeschnittene Tools für die Praxis (z.B. gute 1:1s\, Manager-on-a-Page\, Team Canvas\, effektives Feedback\, intrinsische Motivation\, OKR\, etc.) und viel über sich selbst. Neben dem Bootcamp begleitet ein ausführliches Zusatzangebot das Training\, u.a. eine bewährte Diagnostik zu Führungskompetenzen\, virtuelle Kick-off & Follow-up Termine\, ein Onlinekurs zu Selbstkompetenz\, Buddy-Matching mit praktischen Übungen\, 1:1 Coaching\, ein AI Leadership Coach\, ein ausführliches Booklet\, Templates\, etc. \nDie Teilnehmer schätzen am Training insbesondere die vielen konkreten Ansätze und “Experimente”\, die sie direkt nach dem Training einsetzen\, um durch lebenslanges Lernen ihren authentischen Führungsstil kontinuierlich weiter zu entwickeln. \n  \nInteressierte Start- & ScaleUps finden weitere Informationen hier: \n\n\nAnmeldung / Levelup Landing Page: https://zentor.de/levelup/ \n\n\nOne-pager: https://zentor.de/other/levelup.pdf \n\n\n“Teaser Deck” zu dem Training: https://zentor.de/other/zentor-purpose-driven-leadership-de.pdf \n\n\nKurzes Intro-Video: https://zentor.de/b2b/#pdl \n\n\n 
URL:https://academy.zentor.de/event/levelup-leadership-training-mar-12-13/
CATEGORIES:LevelUp
ORGANIZER;CN="zentor Academy":MAILTO:academy@zentor.de
END:VEVENT
BEGIN:VEVENT
DTSTART;TZID=Europe/Berlin:20260304T160000
DTEND;TZID=Europe/Berlin:20260304T173000
DTSTAMP:20260420T183136
CREATED:20251221T191756Z
LAST-MODIFIED:20251231T133643Z
UID:10000008-1772640000-1772645400@academy.zentor.de
SUMMARY:Fokus Session - Führung und AI
DESCRIPTION:Strategische Führung bei exponentiellem Fortschritt in AI und linearer menschliche Entwicklung \nMS Teams Einwahldaten auf zentor Academy (bitte einloggen) unter: \nhttps://academy.zentor.de/courses/founder-to-leader/lessons/live-fokus-session/topic/live-session/#login \nInhalte: \n\nIn welcher Welt landen wir: Herausforderungen und Chancen durch KI\nAuf was es wirklich ankommt: Menschliche vs. technologische Entwicklung\nEffektive Führung in einer Welt von exponentiellem Wandel\nKonkrete Anwendungsfälle und Erfahrungsautausch zu Führung und KI\n\nWir freuen uns auf euch! \n 
URL:https://academy.zentor.de/event/fokus-session-fuhrung-und-ai/
LOCATION:Dial-in Focus Session
CATEGORIES:Focus Session
ORGANIZER;CN="zentor Academy":MAILTO:academy@zentor.de
END:VEVENT
BEGIN:VEVENT
DTSTART;TZID=Europe/Berlin:20260225T160000
DTEND;TZID=Europe/Berlin:20260225T173000
DTSTAMP:20260420T183136
CREATED:20251221T191129Z
LAST-MODIFIED:20251231T132124Z
UID:10000007-1772035200-1772040600@academy.zentor.de
SUMMARY:Fokus Session - 5 Hacks gegen Stress
DESCRIPTION:Fünf Tipps zur Stressbewältigung und für mehr Resilienz im Arbeitsalltag \nMS Teams Einwahldaten auf zentor Academy (bitte einloggen) unter: \nhttps://academy.zentor.de/courses/founder-to-leader/lessons/live-fokus-session/topic/live-session/#login \nInhalte: \n\nEin Bewusstsein für mentale Gesundheit und Stress entwickeln\nFünf Ansätze zum effektiven Umgang mit Stres im Arbeitsalltag\nDie Grundlagen für mehr (langfristige) Resilienz\n\nWir freuen uns auf euch! \n 
URL:https://academy.zentor.de/event/fokus-session-5-hacks-gegen-stress/
LOCATION:Dial-in Focus Session
CATEGORIES:Focus Session
ORGANIZER;CN="zentor Academy":MAILTO:academy@zentor.de
END:VEVENT
BEGIN:VEVENT
DTSTART;TZID=Europe/Berlin:20260220T120000
DTEND;TZID=Europe/Berlin:20260220T140000
DTSTAMP:20260420T183136
CREATED:20251223T132129Z
LAST-MODIFIED:20260220T165850Z
UID:10000022-1771588800-1771596000@academy.zentor.de
SUMMARY:Test Event2
DESCRIPTION:Test event \n\nbullet\nbullet\n\nDial- in here: \nhttps://academy.zentor.de/courses/founder-to-leader/lessons/live-fokus-session/topic/live-session/#login
URL:https://academy.zentor.de/event/test-event2/
LOCATION:MS-Teams link
CATEGORIES:Test Category 1
ORGANIZER;CN="zentor Academy":MAILTO:academy@zentor.de
END:VEVENT
BEGIN:VEVENT
DTSTART;TZID=Europe/Berlin:20260213T160000
DTEND;TZID=Europe/Berlin:20260213T170000
DTSTAMP:20260420T183136
CREATED:20251215T193728Z
LAST-MODIFIED:20251231T131717Z
UID:10000005-1770998400-1771002000@academy.zentor.de
SUMMARY:Fokus Session - Einführung und Office Hour Founder Academy
DESCRIPTION:Übersicht über Inhalte und Features zum Programm \nMS Teams Einwahldaten auf zentor Academy (bitte einloggen) unter: \nhttps://academy.zentor.de/courses/founder-to-leader/lessons/live-fokus-session/topic/live-session/#login \nInhalte: \n\n\n\nWie funktioniert die zentor Academy Plattform?\nWelche Inhalte und Tools gibt es in der Gruppe „Founder Academy“?\nWas hat es mit den Focus Sessions auf sich und welche aktuellen Themen gibt es?\nAustausch mit anderen und Buddy Matching\n\n\n\nWir freuen uns auf euch! \n 
URL:https://academy.zentor.de/event/fokus-session-intro-feb/
LOCATION:Dial-in Focus Session
CATEGORIES:Focus Session,Intro
ORGANIZER;CN="zentor Academy":MAILTO:academy@zentor.de
END:VEVENT
BEGIN:VEVENT
DTSTART;VALUE=DATE:20260210
DTEND;VALUE=DATE:20260212
DTSTAMP:20260420T183136
CREATED:20260112T171957Z
LAST-MODIFIED:20260112T171957Z
UID:10000040-1770681600-1770854399@academy.zentor.de
SUMMARY:LevelUp Leadership Training (Feb 10-11)
DESCRIPTION:LevelUp for ScaleUp ist ein speziell auf Startup-Bedürfnisse zugeschnittenes Führungskräftetraining der Techniker Krankenkasse in Kooperation mit der zentor GmbH. Bis zu 14 Teilnehmer lernen in einem 2-tägigen Präsenz-Bootcamp wissenschaftlich fundiert die Kriterien effektiver Führung\, zahlreiche auf die jeweiligen Herausforderungen der Teilnehmer zugeschnittene Tools für die Praxis (z.B. gute 1:1s\, Manager-on-a-Page\, Team Canvas\, effektives Feedback\, intrinsische Motivation\, OKR\, etc.) und viel über sich selbst. Neben dem Bootcamp begleitet ein ausführliches Zusatzangebot das Training\, u.a. eine bewährte Diagnostik zu Führungskompetenzen\, virtuelle Kick-off & Follow-up Termine\, ein Onlinekurs zu Selbstkompetenz\, Buddy-Matching mit praktischen Übungen\, 1:1 Coaching\, ein AI Leadership Coach\, ein ausführliches Booklet\, Templates\, etc. \nDie Teilnehmer schätzen am Training insbesondere die vielen konkreten Ansätze und “Experimente”\, die sie direkt nach dem Training einsetzen\, um durch lebenslanges Lernen ihren authentischen Führungsstil kontinuierlich weiter zu entwickeln. \n  \nInteressierte Start- & ScaleUps finden weitere Informationen hier: \n\n\nAnmeldung / Levelup Landing Page: https://zentor.de/levelup/ \n\n\nOne-pager: https://zentor.de/other/levelup.pdf \n\n\n“Teaser Deck” zu dem Training: https://zentor.de/other/zentor-purpose-driven-leadership-de.pdf \n\n\nKurzes Intro-Video: https://zentor.de/b2b/#pdl \n\n\n 
URL:https://academy.zentor.de/event/levelup-leadership-training-feb-10-11/
CATEGORIES:LevelUp
ORGANIZER;CN="zentor Academy":MAILTO:academy@zentor.de
END:VEVENT
BEGIN:VEVENT
DTSTART;TZID=Europe/Berlin:20260204T160000
DTEND;TZID=Europe/Berlin:20260204T173000
DTSTAMP:20260420T183136
CREATED:20251215T193118Z
LAST-MODIFIED:20251231T132043Z
UID:10000004-1770220800-1770226200@academy.zentor.de
SUMMARY:Fokus Session - Purpose und Führung
DESCRIPTION:Purpose-Driven Leadership und tieferer Sinn als Grundlage guter Führung \nMS Teams Einwahldaten auf zentor Academy (bitte einloggen) unter: \nhttps://academy.zentor.de/courses/founder-to-leader/lessons/live-fokus-session/topic/live-session/#login \nInhalte: \n\n\n\nTieferer Sinn oder „Purpose“ als verbindendes Element der Bedürfnisse von Menschen (Mitarbeitern\, Kunden\, etc.) und Unternehmen\nDas Purpose-Driven Leadership Modell guter Führung\nPraktische Tipps zu mehr „Purpose“ im Selbst\, Team und der Organisation\n\n\n\nWir freuen uns auf euch! \n 
URL:https://academy.zentor.de/event/fokus-session-purpose-und-fuhrung/
LOCATION:Dial-in Focus Session
CATEGORIES:Focus Session
ORGANIZER;CN="zentor Academy":MAILTO:academy@zentor.de
END:VEVENT
BEGIN:VEVENT
DTSTART;TZID=Europe/Berlin:20260121T160000
DTEND;TZID=Europe/Berlin:20260121T173000
DTSTAMP:20260420T183136
CREATED:20251215T144945Z
LAST-MODIFIED:20251231T121024Z
UID:10000003-1769011200-1769016600@academy.zentor.de
SUMMARY:Fokus Session - Innovation
DESCRIPTION:Entwicklung einer Teamkultur von Innovation und Kreativität; Customer Discovery für kundenzentrierte Innovation \nDen Teilnahmelink für MS Teams findet ihr auf der zentor Academy (bitte einloggen) unter: \nhttps://academy.zentor.de/courses/founder-to-leader/lessons/live-fokus-session/topic/live-session/#login \nThemen der Fokus Session \n\n\n\nDas „Innovators Dilemma“ als Chance für Startups und Mittelstand\nEntwicklung einer Teamkultur für Innovation und Kreativität\nCustomer Discovery und andere Techniken für kundenzentrierte Innovation\n\n\n\nWir freuen uns darauf\, euch zu sehen!
URL:https://academy.zentor.de/event/fokus-session-innovation/
LOCATION:Dial-in Focus Session
CATEGORIES:Focus Session
ORGANIZER;CN="zentor Academy":MAILTO:academy@zentor.de
END:VEVENT
BEGIN:VEVENT
DTSTART;VALUE=DATE:20260113
DTEND;VALUE=DATE:20260115
DTSTAMP:20260420T183136
CREATED:20251223T114524Z
LAST-MODIFIED:20251223T114552Z
UID:10000021-1768262400-1768435199@academy.zentor.de
SUMMARY:LevelUp Leadership Training (Jan 13-14)
DESCRIPTION:LevelUp for ScaleUp ist ein speziell auf Startup-Bedürfnisse zugeschnittenes Führungskräftetraining der Techniker Krankenkasse in Kooperation mit der zentor GmbH. Bis zu 14 Teilnehmer lernen in einem 2-tägigen Präsenz-Bootcamp wissenschaftlich fundiert die Kriterien effektiver Führung\, zahlreiche auf die jeweiligen Herausforderungen der Teilnehmer zugeschnittene Tools für die Praxis (z.B. gute 1:1s\, Manager-on-a-Page\, Team Canvas\, effektives Feedback\, intrinsische Motivation\, OKR\, etc.) und viel über sich selbst. Neben dem Bootcamp begleitet ein ausführliches Zusatzangebot das Training\, u.a. eine bewährte Diagnostik zu Führungskompetenzen\, virtuelle Kick-off & Follow-up Termine\, ein Onlinekurs zu Selbstkompetenz\, Buddy-Matching mit praktischen Übungen\, 1:1 Coaching\, ein AI Leadership Coach\, ein ausführliches Booklet\, Templates\, etc. \nDie Teilnehmer schätzen am Training insbesondere die vielen konkreten Ansätze und “Experimente”\, die sie direkt nach dem Training einsetzen\, um durch lebenslanges Lernen ihren authentischen Führungsstil kontinuierlich weiter zu entwickeln. \n  \nInteressierte Start- & ScaleUps finden weitere Informationen hier: \n\n\nAnmeldung / Levelup Landing Page: https://zentor.de/levelup/ \n\n\nOne-pager: https://zentor.de/other/levelup.pdf \n\n\n“Teaser Deck” zu dem Training: https://zentor.de/other/zentor-purpose-driven-leadership-de.pdf \n\n\nKurzes Intro-Video: https://zentor.de/b2b/#pdl \n\n\n 
URL:https://academy.zentor.de/event/levelup-leadership-training-jan13/
CATEGORIES:LevelUp
ORGANIZER;CN="zentor Academy":MAILTO:academy@zentor.de
END:VEVENT
BEGIN:VEVENT
DTSTART;TZID=Europe/Berlin:20260109T160000
DTEND;TZID=Europe/Berlin:20260109T170000
DTSTAMP:20260420T183136
CREATED:20251223T111843Z
LAST-MODIFIED:20251231T130103Z
UID:10000020-1767974400-1767978000@academy.zentor.de
SUMMARY:Fokus Session - Einführung und Office Hour Founder Academy
DESCRIPTION:Übersicht über Inhalte und Features zum Programm \nMS Teams Einwahldaten auf zentor Academy (bitte einloggen) unter: \nhttps://academy.zentor.de/courses/founder-to-leader/lessons/live-fokus-session/topic/live-session/#login \nInhalte: \n\n\n\nWie funktioniert die zentor Academy Plattform?\nWelche Inhalte und Tools gibt es in der Gruppe „Founder Academy“?\nWas hat es mit den Focus Sessions auf sich und welche aktuellen Themen gibt es?\nAustausch mit anderen und Buddy Matching\n\n\n\nWir freuen uns auf euch! \n 
URL:https://academy.zentor.de/event/fokus-session-intro-jan/
LOCATION:Dial-in Focus Session
CATEGORIES:Focus Session,Intro
ORGANIZER;CN="zentor Academy":MAILTO:academy@zentor.de
END:VEVENT
END:VCALENDAR