BEGIN:VCALENDAR
VERSION:2.0
PRODID:-//zentor Akademie - ECPv6.15.20//NONSGML v1.0//EN
CALSCALE:GREGORIAN
METHOD:PUBLISH
X-ORIGINAL-URL:https://academy.zentor.de
X-WR-CALDESC:Veranstaltungen für zentor Akademie
REFRESH-INTERVAL;VALUE=DURATION:PT1H
X-Robots-Tag:noindex
X-PUBLISHED-TTL:PT1H
BEGIN:VTIMEZONE
TZID:Europe/Berlin
BEGIN:DAYLIGHT
TZOFFSETFROM:+0100
TZOFFSETTO:+0200
TZNAME:CEST
DTSTART:20250330T010000
END:DAYLIGHT
BEGIN:STANDARD
TZOFFSETFROM:+0200
TZOFFSETTO:+0100
TZNAME:CET
DTSTART:20251026T010000
END:STANDARD
BEGIN:DAYLIGHT
TZOFFSETFROM:+0100
TZOFFSETTO:+0200
TZNAME:CEST
DTSTART:20260329T010000
END:DAYLIGHT
BEGIN:STANDARD
TZOFFSETFROM:+0200
TZOFFSETTO:+0100
TZNAME:CET
DTSTART:20261025T010000
END:STANDARD
BEGIN:DAYLIGHT
TZOFFSETFROM:+0100
TZOFFSETTO:+0200
TZNAME:CEST
DTSTART:20270328T010000
END:DAYLIGHT
BEGIN:STANDARD
TZOFFSETFROM:+0200
TZOFFSETTO:+0100
TZNAME:CET
DTSTART:20271031T010000
END:STANDARD
END:VTIMEZONE
BEGIN:VEVENT
DTSTART;TZID=Europe/Berlin:20260703T160000
DTEND;TZID=Europe/Berlin:20260703T170000
DTSTAMP:20260420T152636
CREATED:20251221T195114Z
LAST-MODIFIED:20260406T124901Z
UID:10000015-1783094400-1783098000@academy.zentor.de
SUMMARY:Office Hour und Intro Founder Academy
DESCRIPTION:Übersicht über Inhalte und Features zum Programm \nMS Teams Einwahldaten auf zentor Academy (bitte einloggen) unter: \nhttps://academy.zentor.de/courses/founder-to-leader/lessons/live-fokus-session/topic/live-session/#login \nInhalte: \n\nKurze Intro zur Founder Academy\nWelche aktuellen Themen und Herausforderungen gibt es?\nAustausch mit anderen und ggf. Buddy Matching\n\nWir freuen uns auf euch! \n 
URL:https://academy.zentor.de/event/fokus-session-intro-july/
LOCATION:Dial-in Focus Session
CATEGORIES:Focus Session,Intro
ORGANIZER;CN="zentor Academy":MAILTO:academy@zentor.de
END:VEVENT
END:VCALENDAR