BEGIN:VCALENDAR
VERSION:2.0
PRODID:-//zentor Akademie - ECPv6.15.20//NONSGML v1.0//EN
CALSCALE:GREGORIAN
METHOD:PUBLISH
X-WR-CALNAME:zentor Akademie
X-ORIGINAL-URL:https://academy.zentor.de
X-WR-CALDESC:Veranstaltungen für zentor Akademie
REFRESH-INTERVAL;VALUE=DURATION:PT1H
X-Robots-Tag:noindex
X-PUBLISHED-TTL:PT1H
BEGIN:VTIMEZONE
TZID:Europe/Berlin
BEGIN:DAYLIGHT
TZOFFSETFROM:+0100
TZOFFSETTO:+0200
TZNAME:CEST
DTSTART:20250330T010000
END:DAYLIGHT
BEGIN:STANDARD
TZOFFSETFROM:+0200
TZOFFSETTO:+0100
TZNAME:CET
DTSTART:20251026T010000
END:STANDARD
BEGIN:DAYLIGHT
TZOFFSETFROM:+0100
TZOFFSETTO:+0200
TZNAME:CEST
DTSTART:20260329T010000
END:DAYLIGHT
BEGIN:STANDARD
TZOFFSETFROM:+0200
TZOFFSETTO:+0100
TZNAME:CET
DTSTART:20261025T010000
END:STANDARD
BEGIN:DAYLIGHT
TZOFFSETFROM:+0100
TZOFFSETTO:+0200
TZNAME:CEST
DTSTART:20270328T010000
END:DAYLIGHT
BEGIN:STANDARD
TZOFFSETFROM:+0200
TZOFFSETTO:+0100
TZNAME:CET
DTSTART:20271031T010000
END:STANDARD
END:VTIMEZONE
BEGIN:VEVENT
DTSTART;TZID=Europe/Berlin:20260715T160000
DTEND;TZID=Europe/Berlin:20260715T173000
DTSTAMP:20260421T150857
CREATED:20251221T200228Z
LAST-MODIFIED:20251231T132535Z
UID:10000018-1784131200-1784136600@academy.zentor.de
SUMMARY:Fokus Session - Verkaufen\, verkaufen\, verkaufen
DESCRIPTION:Grundlagen für einen effektiven Sales-Ansatz in Startups mit den „3 Whys“ \nMS Teams Einwahldaten auf zentor Academy (bitte einloggen) unter: \nhttps://academy.zentor.de/courses/founder-to-leader/lessons/live-fokus-session/topic/live-session/#login \nInhalte: \n\nDie „3 Why’s“ effektiven Verkaufens\nDie Basics eines Sales Funnels und Priorisierung\nCustomer Discovery als Sales Methode\n\nWir freuen uns auf euch! \n 
URL:https://academy.zentor.de/event/fokus-session-verkaufen-verkaufen-verkaufen/
LOCATION:Dial-in Focus Session
CATEGORIES:Focus Session
ORGANIZER;CN="zentor Academy":MAILTO:academy@zentor.de
END:VEVENT
END:VCALENDAR