BEGIN:VCALENDAR
VERSION:2.0
PRODID:-//zentor Akademie - ECPv6.15.20//NONSGML v1.0//EN
CALSCALE:GREGORIAN
METHOD:PUBLISH
X-ORIGINAL-URL:https://academy.zentor.de
X-WR-CALDESC:Veranstaltungen für zentor Akademie
REFRESH-INTERVAL;VALUE=DURATION:PT1H
X-Robots-Tag:noindex
X-PUBLISHED-TTL:PT1H
BEGIN:VTIMEZONE
TZID:Europe/Berlin
BEGIN:DAYLIGHT
TZOFFSETFROM:+0100
TZOFFSETTO:+0200
TZNAME:CEST
DTSTART:20250330T010000
END:DAYLIGHT
BEGIN:STANDARD
TZOFFSETFROM:+0200
TZOFFSETTO:+0100
TZNAME:CET
DTSTART:20251026T010000
END:STANDARD
BEGIN:DAYLIGHT
TZOFFSETFROM:+0100
TZOFFSETTO:+0200
TZNAME:CEST
DTSTART:20260329T010000
END:DAYLIGHT
BEGIN:STANDARD
TZOFFSETFROM:+0200
TZOFFSETTO:+0100
TZNAME:CET
DTSTART:20261025T010000
END:STANDARD
BEGIN:DAYLIGHT
TZOFFSETFROM:+0100
TZOFFSETTO:+0200
TZNAME:CEST
DTSTART:20270328T010000
END:DAYLIGHT
BEGIN:STANDARD
TZOFFSETFROM:+0200
TZOFFSETTO:+0100
TZNAME:CET
DTSTART:20271031T010000
END:STANDARD
END:VTIMEZONE
BEGIN:VEVENT
DTSTART;TZID=Europe/Berlin:20260506T160000
DTEND;TZID=Europe/Berlin:20260506T173000
DTSTAMP:20260421T115537
CREATED:20251221T193220Z
LAST-MODIFIED:20251231T132345Z
UID:10000012-1778083200-1778088600@academy.zentor.de
SUMMARY:Fokus Session - Effektive Kommunikation
DESCRIPTION:Sorry\, but you do not have permission to view this content.
URL:https://academy.zentor.de/event/fokus-session-effektive-kommunikation/
LOCATION:Dial-in Focus Session
CATEGORIES:Focus Session
ORGANIZER;CN="zentor Academy":MAILTO:academy@zentor.de
END:VEVENT
BEGIN:VEVENT
DTSTART;TZID=Europe/Berlin:20260515T160000
DTEND;TZID=Europe/Berlin:20260515T170000
DTSTAMP:20260421T115537
CREATED:20251221T194811Z
LAST-MODIFIED:20260406T125004Z
UID:10000013-1778860800-1778864400@academy.zentor.de
SUMMARY:Office Hour und Intro Founder Academy
DESCRIPTION:Sorry\, but you do not have permission to view this content.
URL:https://academy.zentor.de/event/fokus-session-intro-may/
LOCATION:Dial-in Focus Session
CATEGORIES:Focus Session,Intro
ORGANIZER;CN="zentor Academy":MAILTO:academy@zentor.de
END:VEVENT
BEGIN:VEVENT
DTSTART;TZID=Europe/Berlin:20260520T160000
DTEND;TZID=Europe/Berlin:20260520T173000
DTSTAMP:20260421T115537
CREATED:20251221T195510Z
LAST-MODIFIED:20251231T132424Z
UID:10000016-1779292800-1779298200@academy.zentor.de
SUMMARY:Fokus Session - Lean Canvas & Team Canvas
DESCRIPTION:Sorry\, but you do not have permission to view this content.
URL:https://academy.zentor.de/event/fokus-session-lean-canvas-team-canvas/
LOCATION:Dial-in Focus Session
CATEGORIES:Focus Session
ORGANIZER;CN="zentor Academy":MAILTO:academy@zentor.de
END:VEVENT
BEGIN:VEVENT
DTSTART;TZID=Europe/Berlin:20260605T160000
DTEND;TZID=Europe/Berlin:20260605T170000
DTSTAMP:20260421T115537
CREATED:20251221T194931Z
LAST-MODIFIED:20260406T124931Z
UID:10000014-1780675200-1780678800@academy.zentor.de
SUMMARY:Office Hour und Intro Founder Academy
DESCRIPTION:Sorry\, but you do not have permission to view this content.
URL:https://academy.zentor.de/event/fokus-session-intro-june/
LOCATION:Dial-in Focus Session
CATEGORIES:Focus Session,Intro
ORGANIZER;CN="zentor Academy":MAILTO:academy@zentor.de
END:VEVENT
BEGIN:VEVENT
DTSTART;TZID=Europe/Berlin:20260617T160000
DTEND;TZID=Europe/Berlin:20260617T173000
DTSTAMP:20260421T115537
CREATED:20251221T195915Z
LAST-MODIFIED:20251231T132502Z
UID:10000017-1781712000-1781717400@academy.zentor.de
SUMMARY:Fokus Session - Jenseits der Founder: Die ersten 10 Mitarbeiter einstellen
DESCRIPTION:Sorry\, but you do not have permission to view this content.
URL:https://academy.zentor.de/event/fokus-session-die-ersten-10-mitarbeiter-einstellen/
LOCATION:Dial-in Focus Session
CATEGORIES:Focus Session
ORGANIZER;CN="zentor Academy":MAILTO:academy@zentor.de
END:VEVENT
BEGIN:VEVENT
DTSTART;TZID=Europe/Berlin:20260703T160000
DTEND;TZID=Europe/Berlin:20260703T170000
DTSTAMP:20260421T115537
CREATED:20251221T195114Z
LAST-MODIFIED:20260406T124901Z
UID:10000015-1783094400-1783098000@academy.zentor.de
SUMMARY:Office Hour und Intro Founder Academy
DESCRIPTION:Sorry\, but you do not have permission to view this content.
URL:https://academy.zentor.de/event/fokus-session-intro-july/
LOCATION:Dial-in Focus Session
CATEGORIES:Focus Session,Intro
ORGANIZER;CN="zentor Academy":MAILTO:academy@zentor.de
END:VEVENT
BEGIN:VEVENT
DTSTART;TZID=Europe/Berlin:20260715T160000
DTEND;TZID=Europe/Berlin:20260715T173000
DTSTAMP:20260421T115537
CREATED:20251221T200228Z
LAST-MODIFIED:20251231T132535Z
UID:10000018-1784131200-1784136600@academy.zentor.de
SUMMARY:Fokus Session - Verkaufen\, verkaufen\, verkaufen
DESCRIPTION:Sorry\, but you do not have permission to view this content.
URL:https://academy.zentor.de/event/fokus-session-verkaufen-verkaufen-verkaufen/
LOCATION:Dial-in Focus Session
CATEGORIES:Focus Session
ORGANIZER;CN="zentor Academy":MAILTO:academy@zentor.de
END:VEVENT
BEGIN:VEVENT
DTSTART;TZID=Europe/Berlin:20260729T160000
DTEND;TZID=Europe/Berlin:20260729T173000
DTSTAMP:20260421T115537
CREATED:20251221T200454Z
LAST-MODIFIED:20251231T132607Z
UID:10000019-1785340800-1785346200@academy.zentor.de
SUMMARY:Fokus Session - Price matters: Preissetzung und Preisplanung
DESCRIPTION:Sorry\, but you do not have permission to view this content.
URL:https://academy.zentor.de/event/fokus-session-preissetzung-und-preisplanung/
LOCATION:Dial-in Focus Session
CATEGORIES:Focus Session
ORGANIZER;CN="zentor Academy":MAILTO:academy@zentor.de
END:VEVENT
END:VCALENDAR